BEGIN:VCALENDAR
VERSION:2.0
PRODID:Events Booking
BEGIN:VEVENT
UID:69ea80940b39a
SUMMARY:Supply Chain Operations and Processes
DESCRIPTION:
LOCATION:Dubai\, UAE
DTSTART:20240212T060000Z
DTEND:20240215T140000Z
DTSTAMP:20231031T183645Z
ORGANIZER;CN=Transport Forum:MAILTO:info@transportsig.com
END:VEVENT
END:VCALENDAR