BEGIN:VCALENDAR
VERSION:2.0
PRODID:Events Booking
BEGIN:VEVENT
UID:69ea2c708fd79
SUMMARY:The 42nd Annual Southern African Transport Conference 2024
DESCRIPTION:
LOCATION:Meiring Naude Road\, Brummeria\, Pretoria
DTSTART:20240708T060000Z
DTEND:20240711T143000Z
DTSTAMP:20240530T153812Z
ORGANIZER;CN=Transport Forum:MAILTO:info@transportsig.com
END:VEVENT
END:VCALENDAR