BEGIN:VCALENDAR
VERSION:2.0
PRODID:Events Booking
BEGIN:VEVENT
UID:69e8d9f58bd86
SUMMARY:The 5th Annual CILTSAESG Conference: Defining the Greenprint
DESCRIPTION:
LOCATION: Johannesburg\, South Africa
DTSTART:20260623T060000Z
DTEND:20260623T150000Z
DTSTAMP:20260414T154723Z
ORGANIZER;CN=Transport Forum:MAILTO:info@transportsig.com
END:VEVENT
END:VCALENDAR