BEGIN:VCALENDAR
VERSION:2.0
PRODID:Events Booking
BEGIN:VEVENT
UID:69e90a442397e
SUMMARY:The InnoTrans 30th Anniversary in 2026!
DESCRIPTION:
LOCATION:Berlin
DTSTART:20260922T050000Z
DTEND:20260925T150000Z
DTSTAMP:20260318T072657Z
ORGANIZER;CN=Transport Forum:MAILTO:info@transportsig.com
END:VEVENT
END:VCALENDAR