BEGIN:VCALENDAR
VERSION:2.0
PRODID:Events Booking
BEGIN:VEVENT
UID:69e91dc12ecfd
SUMMARY:The Road Freight Association
DESCRIPTION:
LOCATION:Webinar
DTSTART:20251001T080000Z
DTEND:20251001T140000Z
DTSTAMP:20250930T081433Z
ORGANIZER;CN=Transport Forum:MAILTO:info@transportsig.com
END:VEVENT
END:VCALENDAR