BEGIN:VCALENDAR
VERSION:2.0
PRODID:Events Booking
BEGIN:VEVENT
UID:69e951a69f160
SUMMARY:Traffic Fine Risks
DESCRIPTION:
LOCATION:Johannesburg
DTSTART:20250709T060000Z
DTEND:20250709T143000Z
DTSTAMP:20250605T150456Z
ORGANIZER;CN=Transport Forum:MAILTO:info@transportsig.com
END:VEVENT
END:VCALENDAR