BEGIN:VCALENDAR
VERSION:2.0
PRODID:Events Booking
BEGIN:VEVENT
UID:69e952daa1218
SUMMARY:Traffic Fine Workshop - 09 July 2025 - Johannesburg
DESCRIPTION:
LOCATION:Johannesburg
DTSTART:20250709T060000Z
DTEND:20250709T150000Z
DTSTAMP:20250630T065020Z
ORGANIZER;CN=Transport Forum:MAILTO:info@transportsig.com
END:VEVENT
END:VCALENDAR