BEGIN:VCALENDAR
VERSION:2.0
PRODID:Events Booking
BEGIN:VEVENT
UID:69e967be84c25
SUMMARY:Trains\, Coaches & Carriages Maintenance Summit SG June 2025
DESCRIPTION:
LOCATION:SINGAPORE 
DTSTART:20250618T060000Z
DTEND:20250619T150000Z
DTSTAMP:20250130T225840Z
ORGANIZER;CN=Transport Forum:MAILTO:info@transportsig.com
END:VEVENT
END:VCALENDAR