BEGIN:VCALENDAR
VERSION:2.0
PRODID:Events Booking
BEGIN:VEVENT
UID:69e9646360b0a
SUMMARY:Transport Ticketing
DESCRIPTION:
LOCATION:Virtual
DTSTART:20250624T093000Z
DTEND:20250624T101000Z
DTSTAMP:20250528T064253Z
ORGANIZER;CN=Transport Forum:MAILTO:info@transportsig.com
END:VEVENT
END:VCALENDAR