BEGIN:VCALENDAR
VERSION:2.0
PRODID:Events Booking
BEGIN:VEVENT
UID:69e9651b0326a
SUMMARY:UITP Summit in Hamburg
DESCRIPTION:
LOCATION:Hamburg\, Germany
DTSTART:20250615T053000Z
DTEND:20250618T150000Z
DTSTAMP:20250130T223936Z
ORGANIZER;CN=Transport Forum:MAILTO:info@transportsig.com
END:VEVENT
END:VCALENDAR