BEGIN:VCALENDAR
VERSION:2.0
PRODID:Events Booking
BEGIN:VEVENT
UID:69e90b0c8af41
SUMMARY:Understanding RTMS and PBS in Practice
DESCRIPTION:
LOCATION:Webinar
DTSTART:20251126T080000Z
DTEND:20251126T100000Z
DTSTAMP:20251120T063147Z
ORGANIZER;CN=Transport Forum:MAILTO:info@transportsig.com
END:VEVENT
END:VCALENDAR