BEGIN:VCALENDAR
VERSION:2.0
PRODID:Events Booking
BEGIN:VEVENT
UID:69e91b87c907c
SUMMARY:Virtual GHS Introduction & Advanced Training 
DESCRIPTION:
LOCATION:Virtual
DTSTART:20250930T073000Z
DTEND:20251003T113000Z
DTSTAMP:20250916T154603Z
ORGANIZER;CN=Transport Forum:MAILTO:info@transportsig.com
END:VEVENT
END:VCALENDAR