BEGIN:VCALENDAR
VERSION:2.0
PRODID:Events Booking
BEGIN:VEVENT
UID:69e92c7588a99
SUMMARY:Virtual GHS Introduction & Advanced Training 
DESCRIPTION:
LOCATION:Virtual
DTSTART:20250925T073000Z
DTEND:20250926T113000Z
DTSTAMP:20250916T154100Z
ORGANIZER;CN=Transport Forum:MAILTO:info@transportsig.com
END:VEVENT
END:VCALENDAR