BEGIN:VCALENDAR
VERSION:2.0
PRODID:Events Booking
BEGIN:VEVENT
UID:69e92eb01f3ed
SUMMARY:Women in Logistics\, Transport and Supply Chain Empowerment Confere
 nce 
DESCRIPTION:
LOCATION:Johannesburg / Sandton
DTSTART:20250926T070000Z
DTEND:20250926T140000Z
DTSTAMP:20250726T124820Z
ORGANIZER;CN=Transport Forum:MAILTO:info@transportsig.com
END:VEVENT
END:VCALENDAR