BEGIN:VCALENDAR
VERSION:2.0
PRODID:Events Booking
BEGIN:VEVENT
UID:69e90cc835d6b
SUMMARY:Women in Rail South Africa (WIRSA)
DESCRIPTION:
LOCATION:Courtyard Hotel\, Waterfall City
DTSTART:20251114T050000Z
DTEND:20251114T090000Z
DTSTAMP:20251030T152848Z
ORGANIZER;CN=Transport Forum:MAILTO:info@transportsig.com
END:VEVENT
END:VCALENDAR