BEGIN:VCALENDAR
VERSION:2.0
PRODID:Events Booking
BEGIN:VEVENT
UID:69e9404e62bfc
SUMMARY:Women with Drive returns for its ninth year!
DESCRIPTION:
LOCATION:To Follow
DTSTART:20250812T080000Z
DTEND:20250812T110000Z
DTSTAMP:20250726T121654Z
ORGANIZER;CN=Transport Forum:MAILTO:info@transportsig.com
END:VEVENT
END:VCALENDAR