BEGIN:VCALENDAR
VERSION:2.0
PRODID:Events Booking
BEGIN:VEVENT
UID:69e8c1d878e92
SUMMARY:Worldwide trends towards high-productivity transport
DESCRIPTION:
LOCATION:Webinar
DTSTART:20260506T070000Z
DTEND:20260506T090000Z
DTSTAMP:20260318T075114Z
ORGANIZER;CN=Transport Forum:MAILTO:info@transportsig.com
END:VEVENT
END:VCALENDAR